View In:
  ArcGIS JavaScript
  ArcGIS Online map viewer
  Google Earth
  ArcMap
View Footprint In:
  ArcGIS Online map viewer
Service Description:  Edendale/EdendaleDD_2 
Name:  Edendale/EdendaleDD_2 
Description:  Edendale/EdendaleDD_2 
Single Fused Map Cache:  false
Extent: 
XMin: -64217.13991326287
YMin: -3284006.1168353413
XMax: -61053.63991326287
YMax: -3282386.416835341
Spatial Reference: PROJCS["GCS_WGS_1984",GEOGCS["GCS_WGS_1984",DATUM["D_WGS_1984",SPHEROID["WGS_1984",6378137.0,298.257223563]],PRIMEM["Greenwich",0.0],UNIT["Degree",0.0174532925199433]],PROJECTION["Transverse_Mercator"],PARAMETER["false_easting",0.0],PARAMETER["false_northing",0.0],PARAMETER["central_meridian",31.0],PARAMETER["scale_factor",1.0],PARAMETER["latitude_of_origin",0.0],UNIT["Meter",1.0]]
 
Initial Extent: 
XMin: -64217.13991326287
YMin: -3284006.1168353413
XMax: -61053.63991326287
YMax: -3282386.416835341
Spatial Reference: PROJCS["GCS_WGS_1984",GEOGCS["GCS_WGS_1984",DATUM["D_WGS_1984",SPHEROID["WGS_1984",6378137.0,298.257223563]],PRIMEM["Greenwich",0.0],UNIT["Degree",0.0174532925199433]],PROJECTION["Transverse_Mercator"],PARAMETER["false_easting",0.0],PARAMETER["false_northing",0.0],PARAMETER["central_meridian",31.0],PARAMETER["scale_factor",1.0],PARAMETER["latitude_of_origin",0.0],UNIT["Meter",1.0]]
 
Full Extent: 
XMin: -64217.13991326287
YMin: -3284006.1168353413
XMax: -61053.63991326287
YMax: -3282386.416835341
Spatial Reference: PROJCS["GCS_WGS_1984",GEOGCS["GCS_WGS_1984",DATUM["D_WGS_1984",SPHEROID["WGS_1984",6378137.0,298.257223563]],PRIMEM["Greenwich",0.0],UNIT["Degree",0.0174532925199433]],PROJECTION["Transverse_Mercator"],PARAMETER["false_easting",0.0],PARAMETER["false_northing",0.0],PARAMETER["central_meridian",31.0],PARAMETER["scale_factor",1.0],PARAMETER["latitude_of_origin",0.0],UNIT["Meter",1.0]]
 
Pixel Size X:  0.1 
Pixel Size Y:  0.1000000000000115 
Band Count: 3
Pixel Type: U8
RasterFunction Infos:  {"name":"None","description":"","help":""} 
Mensuration Capabilities: Basic
Has Histograms:  false
Has Colormap:  false
Has Multi Dimensions :  false
Rendering Rule: 
Min Scale:  0
Max Scale:  0
Copyright Text:  
Service Data Type:  esriImageServiceDataTypeRGB 
Min Values:  N/A 
Max Values:  N/A 
Mean Values:  N/A 
Standard Deviation Values:  N/A 
Object ID Field:  
Fields: 
None
Default Mosaic Method:  Center 
Allowed Mosaic Methods:  
SortField:  
SortValue:  null 
Mosaic Operator:  First 
Default Compression Quality:  75 
Default Resampling Method:  Bilinear 
Max Record Count:  null 
Max Image Height:  4100 
Max Image Width:  15000 
Max Download Image Count:  null 
Max Mosaic Image Count:  null 
Allow Raster Function:  true 
Allow Compute TiePoints:  false 
Supports Statistics:  false 
Supports Advanced Queries:  false 
Use StandardizedQueries:  true 
Raster Type Infos: 
Name: Raster Dataset
Description: Supports all ArcGIS Raster Datasets
Help: 
Has Raster Attribute Table:  false 
Edit Fields Info:  null 
Ownership Based AccessControl For Rasters:  null 
Child Resources:
  
Info
  Key Properties
  Legend
  MultiDimensionalInfo
  rasterFunctionInfos
Supported Operations:
  
Export Image
  Identify
  Measure
  Compute Histograms
  Compute Statistics Histograms
  Get Samples
  Compute Class Statistics